BEGIN:VCALENDAR
VERSION:2.0
PRODID:-//Warradale Faith Congregation, SA - ECPv6.15.16//NONSGML v1.0//EN
CALSCALE:GREGORIAN
METHOD:PUBLISH
X-WR-CALNAME:Warradale Faith Congregation, SA
X-ORIGINAL-URL:https://warradale.lutheran.org.au
X-WR-CALDESC:Events for Warradale Faith Congregation, SA
REFRESH-INTERVAL;VALUE=DURATION:PT1H
X-Robots-Tag:noindex
X-PUBLISHED-TTL:PT1H
BEGIN:VTIMEZONE
TZID:Australia/Adelaide
BEGIN:STANDARD
TZOFFSETFROM:+1030
TZOFFSETTO:+0930
TZNAME:ACST
DTSTART:20250405T163000
END:STANDARD
BEGIN:DAYLIGHT
TZOFFSETFROM:+0930
TZOFFSETTO:+1030
TZNAME:ACDT
DTSTART:20251004T163000
END:DAYLIGHT
BEGIN:STANDARD
TZOFFSETFROM:+1030
TZOFFSETTO:+0930
TZNAME:ACST
DTSTART:20260404T163000
END:STANDARD
BEGIN:DAYLIGHT
TZOFFSETFROM:+0930
TZOFFSETTO:+1030
TZNAME:ACDT
DTSTART:20261003T163000
END:DAYLIGHT
BEGIN:STANDARD
TZOFFSETFROM:+1030
TZOFFSETTO:+0930
TZNAME:ACST
DTSTART:20270403T163000
END:STANDARD
BEGIN:DAYLIGHT
TZOFFSETFROM:+0930
TZOFFSETTO:+1030
TZNAME:ACDT
DTSTART:20271002T163000
END:DAYLIGHT
END:VTIMEZONE
BEGIN:VEVENT
DTSTART;TZID=Australia/Adelaide:20260318T054500
DTEND;TZID=Australia/Adelaide:20260318T203000
DTSTAMP:20260423T101005
CREATED:20260212T060846Z
LAST-MODIFIED:20260212T060846Z
UID:10002092-1773812700-1773865800@warradale.lutheran.org.au
SUMMARY:ALWS 'Assante of Thanks' evening
DESCRIPTION:Australian Lutheran World Service invites you to an ‘Asante of Thanks’ evening on Wed 18 March\, 5:45pm for 6pm at Faith Warradale. It will be a time of inspiration as Mary Obara\, ALWS international aid Program Manager for Kenya and Somalia\, shares stories from the field and the incredible impact of your generosity. Robin and Dorothy Mann will encourage us through song. Followed by a light supper. Register 1300 763 407 or alws.org.au/events \nEvents also at Mount Barker at 6.45pm on Tues\, 17 March and at Unley at 11am on 18 March.
URL:https://warradale.lutheran.org.au/event/alws-assante-of-thanks-evening/
LOCATION:Faith Lutheran Church Warradale\, 2 Ailsa Avenue\, Warradale\, South Australia\, 5046\, Australia
CATEGORIES:Fellowship,Worship
ATTACH;FMTTYPE=image/png:https://warradale.lutheran.org.au/wp-content/uploads/2026/02/ALWS-logo.png
GEO:-35.0118265;138.537677
X-APPLE-STRUCTURED-LOCATION;VALUE=URI;X-ADDRESS=Faith Lutheran Church Warradale 2 Ailsa Avenue Warradale South Australia 5046 Australia;X-APPLE-RADIUS=500;X-TITLE=2 Ailsa Avenue:geo:138.537677,-35.0118265
END:VEVENT
BEGIN:VEVENT
DTSTART;TZID=Australia/Adelaide:20260319T093000
DTEND;TZID=Australia/Adelaide:20260319T110000
DTSTAMP:20260423T101005
CREATED:20260106T002438Z
LAST-MODIFIED:20260106T002438Z
UID:10001970-1773912600-1773918000@warradale.lutheran.org.au
SUMMARY:mainly music
DESCRIPTION:This involves music\, songs\, movement\, dance and rhymes to assist the children in developing their coordination\, fine and gross motor skills\, social interaction and language. We encourage the caregiver to be actively involved with their child in these sessions. Each session is run by volunteers from our community and other local churches.
URL:https://warradale.lutheran.org.au/event/mainly-music-7/2026-03-19/
LOCATION:Faith Lutheran Church Warradale\, 2 Ailsa Avenue\, Warradale\, South Australia\, 5046\, Australia
CATEGORIES:Children
ATTACH;FMTTYPE=image/jpeg:https://warradale.lutheran.org.au/wp-content/uploads/2020/02/20131212_100539-e1586840487450.jpg
GEO:-35.0118265;138.537677
X-APPLE-STRUCTURED-LOCATION;VALUE=URI;X-ADDRESS=Faith Lutheran Church Warradale 2 Ailsa Avenue Warradale South Australia 5046 Australia;X-APPLE-RADIUS=500;X-TITLE=2 Ailsa Avenue:geo:138.537677,-35.0118265
END:VEVENT
BEGIN:VEVENT
DTSTART;TZID=Australia/Adelaide:20260321T083000
DTEND;TZID=Australia/Adelaide:20260321T103000
DTSTAMP:20260423T101005
CREATED:20260106T001703Z
LAST-MODIFIED:20260106T001703Z
UID:10001913-1774081800-1774089000@warradale.lutheran.org.au
SUMMARY:Men's Breakfast
DESCRIPTION:Third Saturday each month at 8.30am \nBBQ eggs\, bacon\, sausages\, tomatoes\, mushrooms\, toast. Plus tea\, coffee\, fruit juices\, raisin toast and jams.
URL:https://warradale.lutheran.org.au/event/mens-breakfast-11/2026-03-21/
LOCATION:Faith Lutheran Church Warradale\, 2 Ailsa Avenue\, Warradale\, South Australia\, 5046\, Australia
CATEGORIES:Men
ATTACH;FMTTYPE=image/jpeg:https://warradale.lutheran.org.au/wp-content/uploads/2020/02/iStock-857549132-e1586846033353.jpg
GEO:-35.0118265;138.537677
X-APPLE-STRUCTURED-LOCATION;VALUE=URI;X-ADDRESS=Faith Lutheran Church Warradale 2 Ailsa Avenue Warradale South Australia 5046 Australia;X-APPLE-RADIUS=500;X-TITLE=2 Ailsa Avenue:geo:138.537677,-35.0118265
END:VEVENT
BEGIN:VEVENT
DTSTART;TZID=Australia/Adelaide:20260321T100000
DTEND;TZID=Australia/Adelaide:20260321T120000
DTSTAMP:20260423T101005
CREATED:20240130T232538Z
LAST-MODIFIED:20260409T065853Z
UID:10000776-1774087200-1774094400@warradale.lutheran.org.au
SUMMARY:Women's Saturday Brunch
DESCRIPTION:All women are very welcome to join the group to meet for brunch at a local(ish) cafe on the third Saturday of the month at 10am.  Contact the church to book and find out where the group is meeting.
URL:https://warradale.lutheran.org.au/event/womens-saturday-brunch-3/2026-03-21/
LOCATION:South Australia
CATEGORIES:Fellowship,Women
ATTACH;FMTTYPE=image/jpeg:https://warradale.lutheran.org.au/wp-content/uploads/2023/02/pexels-vincent-rivaud-2272037-e1675820511779.jpg
END:VEVENT
BEGIN:VEVENT
DTSTART;TZID=Australia/Adelaide:20260322T093000
DTEND;TZID=Australia/Adelaide:20260322T104500
DTSTAMP:20260423T101005
CREATED:20260212T061815Z
LAST-MODIFIED:20260212T061815Z
UID:10001546-1774171800-1774176300@warradale.lutheran.org.au
SUMMARY:Worship Service
DESCRIPTION:Our 9.30am service is a blend of old and new styles of worship. We celebrate holy communion in every service.
URL:https://warradale.lutheran.org.au/event/worship-service-2020-05-24-2022-07-03-2-2/2026-03-22/
LOCATION:Faith Lutheran Church Warradale\, 2 Ailsa Avenue\, Warradale\, South Australia\, 5046\, Australia
CATEGORIES:Worship
ATTACH;FMTTYPE=image/jpeg:https://warradale.lutheran.org.au/wp-content/uploads/2020/02/20160403_103252-e1586840663654.jpg
GEO:-35.0118265;138.537677
X-APPLE-STRUCTURED-LOCATION;VALUE=URI;X-ADDRESS=Faith Lutheran Church Warradale 2 Ailsa Avenue Warradale South Australia 5046 Australia;X-APPLE-RADIUS=500;X-TITLE=2 Ailsa Avenue:geo:138.537677,-35.0118265
END:VEVENT
BEGIN:VEVENT
DTSTART;TZID=Australia/Adelaide:20260322T170000
DTEND;TZID=Australia/Adelaide:20260322T183000
DTSTAMP:20260423T101005
CREATED:20260106T004423Z
LAST-MODIFIED:20260106T004555Z
UID:10002026-1774198800-1774204200@warradale.lutheran.org.au
SUMMARY:The Gathering
DESCRIPTION:A fresh expression of worship @ Faith Warradale. \nStarting 5pm with food and fellowship \nFood. Fellowship. God’s Word. Video. Encouragement. Prayer. Song.\nFriendly people. Local Leadership. \nMeetings will be during the school term only. \n  \n  \n  \n  \n 
URL:https://warradale.lutheran.org.au/event/the-gathering-3/2026-03-22/
LOCATION:Faith Lutheran Church Warradale\, 2 Ailsa Avenue\, Warradale\, South Australia\, 5046\, Australia
CATEGORIES:Worship
ATTACH;FMTTYPE=image/jpeg:https://warradale.lutheran.org.au/wp-content/uploads/2020/02/20200105_105858.jpg
GEO:-35.0118265;138.537677
X-APPLE-STRUCTURED-LOCATION;VALUE=URI;X-ADDRESS=Faith Lutheran Church Warradale 2 Ailsa Avenue Warradale South Australia 5046 Australia;X-APPLE-RADIUS=500;X-TITLE=2 Ailsa Avenue:geo:138.537677,-35.0118265
END:VEVENT
END:VCALENDAR