BEGIN:VCALENDAR
VERSION:2.0
PRODID:-//Warradale Faith Congregation, SA - ECPv6.15.16//NONSGML v1.0//EN
CALSCALE:GREGORIAN
METHOD:PUBLISH
X-WR-CALNAME:Warradale Faith Congregation, SA
X-ORIGINAL-URL:https://warradale.lutheran.org.au
X-WR-CALDESC:Events for Warradale Faith Congregation, SA
REFRESH-INTERVAL;VALUE=DURATION:PT1H
X-Robots-Tag:noindex
X-PUBLISHED-TTL:PT1H
BEGIN:VTIMEZONE
TZID:Australia/Adelaide
BEGIN:STANDARD
TZOFFSETFROM:+1030
TZOFFSETTO:+0930
TZNAME:ACST
DTSTART:20230401T163000
END:STANDARD
BEGIN:DAYLIGHT
TZOFFSETFROM:+0930
TZOFFSETTO:+1030
TZNAME:ACDT
DTSTART:20230930T163000
END:DAYLIGHT
BEGIN:STANDARD
TZOFFSETFROM:+1030
TZOFFSETTO:+0930
TZNAME:ACST
DTSTART:20240406T163000
END:STANDARD
BEGIN:DAYLIGHT
TZOFFSETFROM:+0930
TZOFFSETTO:+1030
TZNAME:ACDT
DTSTART:20241005T163000
END:DAYLIGHT
BEGIN:STANDARD
TZOFFSETFROM:+1030
TZOFFSETTO:+0930
TZNAME:ACST
DTSTART:20250405T163000
END:STANDARD
BEGIN:DAYLIGHT
TZOFFSETFROM:+0930
TZOFFSETTO:+1030
TZNAME:ACDT
DTSTART:20251004T163000
END:DAYLIGHT
END:VTIMEZONE
BEGIN:VEVENT
DTSTART;TZID=Australia/Adelaide:20241224T180000
DTEND;TZID=Australia/Adelaide:20241224T190000
DTSTAMP:20260423T183026
CREATED:20231215T005934Z
LAST-MODIFIED:20241221T114010Z
UID:10000679-1735063200-1735066800@warradale.lutheran.org.au
SUMMARY:Christmas Eve 6pm Service
DESCRIPTION:On Christmas Eve at 6pm we will be hosting a family event.  Kids are welcome to come dressed in angel or shepherd costumes and share in the Christmas story. \nThis is a family friendly service with carols and a drama.  Everyone welcome.
URL:https://warradale.lutheran.org.au/event/christmas-eve-6pm-service-2/
LOCATION:Faith Lutheran Church Warradale\, 2 Ailsa Avenue\, Warradale\, South Australia\, 5046\, Australia
CATEGORIES:Children,Fellowship,Men,Women,Worship,Youth
ATTACH;FMTTYPE=image/jpeg:https://warradale.lutheran.org.au/wp-content/uploads/2020/12/Christmas-Eve-2.jpg
GEO:-35.0118265;138.537677
X-APPLE-STRUCTURED-LOCATION;VALUE=URI;X-ADDRESS=Faith Lutheran Church Warradale 2 Ailsa Avenue Warradale South Australia 5046 Australia;X-APPLE-RADIUS=500;X-TITLE=2 Ailsa Avenue:geo:138.537677,-35.0118265
END:VEVENT
BEGIN:VEVENT
DTSTART;TZID=Australia/Adelaide:20241224T203000
DTEND;TZID=Australia/Adelaide:20241224T213000
DTSTAMP:20260423T183026
CREATED:20231215T005143Z
LAST-MODIFIED:20241221T113906Z
UID:10000678-1735072200-1735075800@warradale.lutheran.org.au
SUMMARY:Christmas Eve 8.30pm Service
DESCRIPTION:On Christmas Eve at 8.30pm we will have a relaxed Twilight gathering with carols and candles. \nEveryone welcome.
URL:https://warradale.lutheran.org.au/event/christmas-eve-6pm-service/
LOCATION:Faith Lutheran Church Warradale\, 2 Ailsa Avenue\, Warradale\, South Australia\, 5046\, Australia
CATEGORIES:Children,Fellowship,Men,Women,Worship,Youth
ATTACH;FMTTYPE=image/jpeg:https://warradale.lutheran.org.au/wp-content/uploads/2020/12/Christmas-Eve-2.jpg
GEO:-35.0118265;138.537677
X-APPLE-STRUCTURED-LOCATION;VALUE=URI;X-ADDRESS=Faith Lutheran Church Warradale 2 Ailsa Avenue Warradale South Australia 5046 Australia;X-APPLE-RADIUS=500;X-TITLE=2 Ailsa Avenue:geo:138.537677,-35.0118265
END:VEVENT
BEGIN:VEVENT
DTSTART;TZID=Australia/Adelaide:20241225T093000
DTEND;TZID=Australia/Adelaide:20241225T103000
DTSTAMP:20260423T183026
CREATED:20231215T010223Z
LAST-MODIFIED:20241221T114609Z
UID:10000680-1735119000-1735122600@warradale.lutheran.org.au
SUMMARY:Worship Service Christmas Day
DESCRIPTION:On Christmas Day at 9.30am it’s “Celebrating God’s Gift of Love – Jesus” when we will be offering a classic worship service focused on the Christmas story\, with Holy Communion. \nYou are Welcome to gather with us.
URL:https://warradale.lutheran.org.au/event/worship-service-christmas-day/
LOCATION:Faith Lutheran Church Warradale\, 2 Ailsa Avenue\, Warradale\, South Australia\, 5046\, Australia
CATEGORIES:Worship
ATTACH;FMTTYPE=image/jpeg:https://warradale.lutheran.org.au/wp-content/uploads/2020/12/Christmas-Eve.jpg
GEO:-35.0118265;138.537677
X-APPLE-STRUCTURED-LOCATION;VALUE=URI;X-ADDRESS=Faith Lutheran Church Warradale 2 Ailsa Avenue Warradale South Australia 5046 Australia;X-APPLE-RADIUS=500;X-TITLE=2 Ailsa Avenue:geo:138.537677,-35.0118265
END:VEVENT
BEGIN:VEVENT
DTSTART;TZID=Australia/Adelaide:20241229T093000
DTEND;TZID=Australia/Adelaide:20241229T104500
DTSTAMP:20260423T183026
CREATED:20240131T005726Z
LAST-MODIFIED:20250315T011342Z
UID:10001482-1735464600-1735469100@warradale.lutheran.org.au
SUMMARY:Worship Service
DESCRIPTION:Our 9.30am service is a blend of old and new styles of worship. We celebrate holy communion in every service.
URL:https://warradale.lutheran.org.au/event/worship-service-2020-05-24-2022-07-03-2/2024-12-29/
LOCATION:Faith Lutheran Church Warradale\, 2 Ailsa Avenue\, Warradale\, South Australia\, 5046\, Australia
CATEGORIES:Worship
ATTACH;FMTTYPE=image/jpeg:https://warradale.lutheran.org.au/wp-content/uploads/2020/02/20160403_103252-e1586840663654.jpg
GEO:-35.0118265;138.537677
X-APPLE-STRUCTURED-LOCATION;VALUE=URI;X-ADDRESS=Faith Lutheran Church Warradale 2 Ailsa Avenue Warradale South Australia 5046 Australia;X-APPLE-RADIUS=500;X-TITLE=2 Ailsa Avenue:geo:138.537677,-35.0118265
END:VEVENT
END:VCALENDAR