BEGIN:VCALENDAR
VERSION:2.0
PRODID:-//Warradale Faith Congregation, SA - ECPv6.15.16//NONSGML v1.0//EN
CALSCALE:GREGORIAN
METHOD:PUBLISH
X-ORIGINAL-URL:https://warradale.lutheran.org.au
X-WR-CALDESC:Events for Warradale Faith Congregation, SA
REFRESH-INTERVAL;VALUE=DURATION:PT1H
X-Robots-Tag:noindex
X-PUBLISHED-TTL:PT1H
BEGIN:VTIMEZONE
TZID:Australia/Adelaide
BEGIN:STANDARD
TZOFFSETFROM:+1030
TZOFFSETTO:+0930
TZNAME:ACST
DTSTART:20290331T163000
END:STANDARD
BEGIN:DAYLIGHT
TZOFFSETFROM:+0930
TZOFFSETTO:+1030
TZNAME:ACDT
DTSTART:20291006T163000
END:DAYLIGHT
BEGIN:STANDARD
TZOFFSETFROM:+1030
TZOFFSETTO:+0930
TZNAME:ACST
DTSTART:20300406T163000
END:STANDARD
BEGIN:DAYLIGHT
TZOFFSETFROM:+0930
TZOFFSETTO:+1030
TZNAME:ACDT
DTSTART:20301005T163000
END:DAYLIGHT
BEGIN:STANDARD
TZOFFSETFROM:+1030
TZOFFSETTO:+0930
TZNAME:ACST
DTSTART:20310405T163000
END:STANDARD
BEGIN:DAYLIGHT
TZOFFSETFROM:+0930
TZOFFSETTO:+1030
TZNAME:ACDT
DTSTART:20311004T163000
END:DAYLIGHT
BEGIN:STANDARD
TZOFFSETFROM:+1030
TZOFFSETTO:+0930
TZNAME:ACST
DTSTART:20320403T163000
END:STANDARD
BEGIN:DAYLIGHT
TZOFFSETFROM:+0930
TZOFFSETTO:+1030
TZNAME:ACDT
DTSTART:20321002T163000
END:DAYLIGHT
END:VTIMEZONE
BEGIN:VEVENT
DTSTART;TZID=Australia/Adelaide:20301208T093000
DTEND;TZID=Australia/Adelaide:20301208T104500
DTSTAMP:20260421T184731
CREATED:20260212T061815Z
LAST-MODIFIED:20260212T061815Z
UID:10002134-1922952600-1922957100@warradale.lutheran.org.au
SUMMARY:Worship Service
DESCRIPTION:Our 9.30am service is a blend of old and new styles of worship. We celebrate holy communion in every service.
URL:https://warradale.lutheran.org.au/event/worship-service-2020-05-24-2022-07-03-2-2/2030-12-08/
LOCATION:Faith Lutheran Church Warradale\, 2 Ailsa Avenue\, Warradale\, South Australia\, 5046\, Australia
CATEGORIES:Worship
ATTACH;FMTTYPE=image/jpeg:https://warradale.lutheran.org.au/wp-content/uploads/2020/02/20160403_103252-e1586840663654.jpg
GEO:-35.0118265;138.537677
X-APPLE-STRUCTURED-LOCATION;VALUE=URI;X-ADDRESS=Faith Lutheran Church Warradale 2 Ailsa Avenue Warradale South Australia 5046 Australia;X-APPLE-RADIUS=500;X-TITLE=2 Ailsa Avenue:geo:138.537677,-35.0118265
END:VEVENT
BEGIN:VEVENT
DTSTART;TZID=Australia/Adelaide:20301215T093000
DTEND;TZID=Australia/Adelaide:20301215T104500
DTSTAMP:20260421T184731
CREATED:20260212T061815Z
LAST-MODIFIED:20260212T061815Z
UID:10002135-1923557400-1923561900@warradale.lutheran.org.au
SUMMARY:Worship Service
DESCRIPTION:Our 9.30am service is a blend of old and new styles of worship. We celebrate holy communion in every service.
URL:https://warradale.lutheran.org.au/event/worship-service-2020-05-24-2022-07-03-2-2/2030-12-15/
LOCATION:Faith Lutheran Church Warradale\, 2 Ailsa Avenue\, Warradale\, South Australia\, 5046\, Australia
CATEGORIES:Worship
ATTACH;FMTTYPE=image/jpeg:https://warradale.lutheran.org.au/wp-content/uploads/2020/02/20160403_103252-e1586840663654.jpg
GEO:-35.0118265;138.537677
X-APPLE-STRUCTURED-LOCATION;VALUE=URI;X-ADDRESS=Faith Lutheran Church Warradale 2 Ailsa Avenue Warradale South Australia 5046 Australia;X-APPLE-RADIUS=500;X-TITLE=2 Ailsa Avenue:geo:138.537677,-35.0118265
END:VEVENT
BEGIN:VEVENT
DTSTART;TZID=Australia/Adelaide:20301221T100000
DTEND;TZID=Australia/Adelaide:20301221T120000
DTSTAMP:20260421T184731
CREATED:20240130T232538Z
LAST-MODIFIED:20260409T065853Z
UID:10002091-1924077600-1924084800@warradale.lutheran.org.au
SUMMARY:Women's Saturday Brunch
DESCRIPTION:All women are very welcome to join the group to meet for brunch at a local(ish) cafe on the third Saturday of the month at 10am.  Contact the church to book and find out where the group is meeting.
URL:https://warradale.lutheran.org.au/event/womens-saturday-brunch-3/2030-12-21/
LOCATION:South Australia
CATEGORIES:Fellowship,Women
ATTACH;FMTTYPE=image/jpeg:https://warradale.lutheran.org.au/wp-content/uploads/2023/02/pexels-vincent-rivaud-2272037-e1675820511779.jpg
END:VEVENT
BEGIN:VEVENT
DTSTART;TZID=Australia/Adelaide:20301222T093000
DTEND;TZID=Australia/Adelaide:20301222T104500
DTSTAMP:20260421T184731
CREATED:20260212T061815Z
LAST-MODIFIED:20260212T061815Z
UID:10002136-1924162200-1924166700@warradale.lutheran.org.au
SUMMARY:Worship Service
DESCRIPTION:Our 9.30am service is a blend of old and new styles of worship. We celebrate holy communion in every service.
URL:https://warradale.lutheran.org.au/event/worship-service-2020-05-24-2022-07-03-2-2/2030-12-22/
LOCATION:Faith Lutheran Church Warradale\, 2 Ailsa Avenue\, Warradale\, South Australia\, 5046\, Australia
CATEGORIES:Worship
ATTACH;FMTTYPE=image/jpeg:https://warradale.lutheran.org.au/wp-content/uploads/2020/02/20160403_103252-e1586840663654.jpg
GEO:-35.0118265;138.537677
X-APPLE-STRUCTURED-LOCATION;VALUE=URI;X-ADDRESS=Faith Lutheran Church Warradale 2 Ailsa Avenue Warradale South Australia 5046 Australia;X-APPLE-RADIUS=500;X-TITLE=2 Ailsa Avenue:geo:138.537677,-35.0118265
END:VEVENT
BEGIN:VEVENT
DTSTART;TZID=Australia/Adelaide:20301229T093000
DTEND;TZID=Australia/Adelaide:20301229T104500
DTSTAMP:20260421T184731
CREATED:20260212T061815Z
LAST-MODIFIED:20260212T061815Z
UID:10002137-1924767000-1924771500@warradale.lutheran.org.au
SUMMARY:Worship Service
DESCRIPTION:Our 9.30am service is a blend of old and new styles of worship. We celebrate holy communion in every service.
URL:https://warradale.lutheran.org.au/event/worship-service-2020-05-24-2022-07-03-2-2/2030-12-29/
LOCATION:Faith Lutheran Church Warradale\, 2 Ailsa Avenue\, Warradale\, South Australia\, 5046\, Australia
CATEGORIES:Worship
ATTACH;FMTTYPE=image/jpeg:https://warradale.lutheran.org.au/wp-content/uploads/2020/02/20160403_103252-e1586840663654.jpg
GEO:-35.0118265;138.537677
X-APPLE-STRUCTURED-LOCATION;VALUE=URI;X-ADDRESS=Faith Lutheran Church Warradale 2 Ailsa Avenue Warradale South Australia 5046 Australia;X-APPLE-RADIUS=500;X-TITLE=2 Ailsa Avenue:geo:138.537677,-35.0118265
END:VEVENT
BEGIN:VEVENT
DTSTART;TZID=Australia/Adelaide:20310105T093000
DTEND;TZID=Australia/Adelaide:20310105T104500
DTSTAMP:20260421T184731
CREATED:20260212T061815Z
LAST-MODIFIED:20260212T061815Z
UID:10002138-1925371800-1925376300@warradale.lutheran.org.au
SUMMARY:Worship Service
DESCRIPTION:Our 9.30am service is a blend of old and new styles of worship. We celebrate holy communion in every service.
URL:https://warradale.lutheran.org.au/event/worship-service-2020-05-24-2022-07-03-2-2/2031-01-05/
LOCATION:Faith Lutheran Church Warradale\, 2 Ailsa Avenue\, Warradale\, South Australia\, 5046\, Australia
CATEGORIES:Worship
ATTACH;FMTTYPE=image/jpeg:https://warradale.lutheran.org.au/wp-content/uploads/2020/02/20160403_103252-e1586840663654.jpg
GEO:-35.0118265;138.537677
X-APPLE-STRUCTURED-LOCATION;VALUE=URI;X-ADDRESS=Faith Lutheran Church Warradale 2 Ailsa Avenue Warradale South Australia 5046 Australia;X-APPLE-RADIUS=500;X-TITLE=2 Ailsa Avenue:geo:138.537677,-35.0118265
END:VEVENT
BEGIN:VEVENT
DTSTART;TZID=Australia/Adelaide:20310112T093000
DTEND;TZID=Australia/Adelaide:20310112T104500
DTSTAMP:20260421T184731
CREATED:20260212T061815Z
LAST-MODIFIED:20260212T061815Z
UID:10002139-1925976600-1925981100@warradale.lutheran.org.au
SUMMARY:Worship Service
DESCRIPTION:Our 9.30am service is a blend of old and new styles of worship. We celebrate holy communion in every service.
URL:https://warradale.lutheran.org.au/event/worship-service-2020-05-24-2022-07-03-2-2/2031-01-12/
LOCATION:Faith Lutheran Church Warradale\, 2 Ailsa Avenue\, Warradale\, South Australia\, 5046\, Australia
CATEGORIES:Worship
ATTACH;FMTTYPE=image/jpeg:https://warradale.lutheran.org.au/wp-content/uploads/2020/02/20160403_103252-e1586840663654.jpg
GEO:-35.0118265;138.537677
X-APPLE-STRUCTURED-LOCATION;VALUE=URI;X-ADDRESS=Faith Lutheran Church Warradale 2 Ailsa Avenue Warradale South Australia 5046 Australia;X-APPLE-RADIUS=500;X-TITLE=2 Ailsa Avenue:geo:138.537677,-35.0118265
END:VEVENT
BEGIN:VEVENT
DTSTART;TZID=Australia/Adelaide:20310118T100000
DTEND;TZID=Australia/Adelaide:20310118T120000
DTSTAMP:20260421T184731
CREATED:20240130T232538Z
LAST-MODIFIED:20260409T065853Z
UID:10002146-1926496800-1926504000@warradale.lutheran.org.au
SUMMARY:Women's Saturday Brunch
DESCRIPTION:All women are very welcome to join the group to meet for brunch at a local(ish) cafe on the third Saturday of the month at 10am.  Contact the church to book and find out where the group is meeting.
URL:https://warradale.lutheran.org.au/event/womens-saturday-brunch-3/2031-01-18/
LOCATION:South Australia
CATEGORIES:Fellowship,Women
ATTACH;FMTTYPE=image/jpeg:https://warradale.lutheran.org.au/wp-content/uploads/2023/02/pexels-vincent-rivaud-2272037-e1675820511779.jpg
END:VEVENT
BEGIN:VEVENT
DTSTART;TZID=Australia/Adelaide:20310119T093000
DTEND;TZID=Australia/Adelaide:20310119T104500
DTSTAMP:20260421T184731
CREATED:20260212T061815Z
LAST-MODIFIED:20260212T061815Z
UID:10002140-1926581400-1926585900@warradale.lutheran.org.au
SUMMARY:Worship Service
DESCRIPTION:Our 9.30am service is a blend of old and new styles of worship. We celebrate holy communion in every service.
URL:https://warradale.lutheran.org.au/event/worship-service-2020-05-24-2022-07-03-2-2/2031-01-19/
LOCATION:Faith Lutheran Church Warradale\, 2 Ailsa Avenue\, Warradale\, South Australia\, 5046\, Australia
CATEGORIES:Worship
ATTACH;FMTTYPE=image/jpeg:https://warradale.lutheran.org.au/wp-content/uploads/2020/02/20160403_103252-e1586840663654.jpg
GEO:-35.0118265;138.537677
X-APPLE-STRUCTURED-LOCATION;VALUE=URI;X-ADDRESS=Faith Lutheran Church Warradale 2 Ailsa Avenue Warradale South Australia 5046 Australia;X-APPLE-RADIUS=500;X-TITLE=2 Ailsa Avenue:geo:138.537677,-35.0118265
END:VEVENT
BEGIN:VEVENT
DTSTART;TZID=Australia/Adelaide:20310126T093000
DTEND;TZID=Australia/Adelaide:20310126T104500
DTSTAMP:20260421T184731
CREATED:20260212T061815Z
LAST-MODIFIED:20260212T061815Z
UID:10002141-1927186200-1927190700@warradale.lutheran.org.au
SUMMARY:Worship Service
DESCRIPTION:Our 9.30am service is a blend of old and new styles of worship. We celebrate holy communion in every service.
URL:https://warradale.lutheran.org.au/event/worship-service-2020-05-24-2022-07-03-2-2/2031-01-26/
LOCATION:Faith Lutheran Church Warradale\, 2 Ailsa Avenue\, Warradale\, South Australia\, 5046\, Australia
CATEGORIES:Worship
ATTACH;FMTTYPE=image/jpeg:https://warradale.lutheran.org.au/wp-content/uploads/2020/02/20160403_103252-e1586840663654.jpg
GEO:-35.0118265;138.537677
X-APPLE-STRUCTURED-LOCATION;VALUE=URI;X-ADDRESS=Faith Lutheran Church Warradale 2 Ailsa Avenue Warradale South Australia 5046 Australia;X-APPLE-RADIUS=500;X-TITLE=2 Ailsa Avenue:geo:138.537677,-35.0118265
END:VEVENT
BEGIN:VEVENT
DTSTART;TZID=Australia/Adelaide:20310202T093000
DTEND;TZID=Australia/Adelaide:20310202T104500
DTSTAMP:20260421T184731
CREATED:20260212T061815Z
LAST-MODIFIED:20260212T061815Z
UID:10002142-1927791000-1927795500@warradale.lutheran.org.au
SUMMARY:Worship Service
DESCRIPTION:Our 9.30am service is a blend of old and new styles of worship. We celebrate holy communion in every service.
URL:https://warradale.lutheran.org.au/event/worship-service-2020-05-24-2022-07-03-2-2/2031-02-02/
LOCATION:Faith Lutheran Church Warradale\, 2 Ailsa Avenue\, Warradale\, South Australia\, 5046\, Australia
CATEGORIES:Worship
ATTACH;FMTTYPE=image/jpeg:https://warradale.lutheran.org.au/wp-content/uploads/2020/02/20160403_103252-e1586840663654.jpg
GEO:-35.0118265;138.537677
X-APPLE-STRUCTURED-LOCATION;VALUE=URI;X-ADDRESS=Faith Lutheran Church Warradale 2 Ailsa Avenue Warradale South Australia 5046 Australia;X-APPLE-RADIUS=500;X-TITLE=2 Ailsa Avenue:geo:138.537677,-35.0118265
END:VEVENT
BEGIN:VEVENT
DTSTART;TZID=Australia/Adelaide:20310209T093000
DTEND;TZID=Australia/Adelaide:20310209T104500
DTSTAMP:20260421T184731
CREATED:20260212T061815Z
LAST-MODIFIED:20260212T061815Z
UID:10002143-1928395800-1928400300@warradale.lutheran.org.au
SUMMARY:Worship Service
DESCRIPTION:Our 9.30am service is a blend of old and new styles of worship. We celebrate holy communion in every service.
URL:https://warradale.lutheran.org.au/event/worship-service-2020-05-24-2022-07-03-2-2/2031-02-09/
LOCATION:Faith Lutheran Church Warradale\, 2 Ailsa Avenue\, Warradale\, South Australia\, 5046\, Australia
CATEGORIES:Worship
ATTACH;FMTTYPE=image/jpeg:https://warradale.lutheran.org.au/wp-content/uploads/2020/02/20160403_103252-e1586840663654.jpg
GEO:-35.0118265;138.537677
X-APPLE-STRUCTURED-LOCATION;VALUE=URI;X-ADDRESS=Faith Lutheran Church Warradale 2 Ailsa Avenue Warradale South Australia 5046 Australia;X-APPLE-RADIUS=500;X-TITLE=2 Ailsa Avenue:geo:138.537677,-35.0118265
END:VEVENT
BEGIN:VEVENT
DTSTART;TZID=Australia/Adelaide:20310215T100000
DTEND;TZID=Australia/Adelaide:20310215T120000
DTSTAMP:20260421T184731
CREATED:20240130T232538Z
LAST-MODIFIED:20260409T065853Z
UID:10002147-1928916000-1928923200@warradale.lutheran.org.au
SUMMARY:Women's Saturday Brunch
DESCRIPTION:All women are very welcome to join the group to meet for brunch at a local(ish) cafe on the third Saturday of the month at 10am.  Contact the church to book and find out where the group is meeting.
URL:https://warradale.lutheran.org.au/event/womens-saturday-brunch-3/2031-02-15/
LOCATION:South Australia
CATEGORIES:Fellowship,Women
ATTACH;FMTTYPE=image/jpeg:https://warradale.lutheran.org.au/wp-content/uploads/2023/02/pexels-vincent-rivaud-2272037-e1675820511779.jpg
END:VEVENT
BEGIN:VEVENT
DTSTART;TZID=Australia/Adelaide:20310315T100000
DTEND;TZID=Australia/Adelaide:20310315T120000
DTSTAMP:20260421T184731
CREATED:20240130T232538Z
LAST-MODIFIED:20260409T065853Z
UID:10002148-1931335200-1931342400@warradale.lutheran.org.au
SUMMARY:Women's Saturday Brunch
DESCRIPTION:All women are very welcome to join the group to meet for brunch at a local(ish) cafe on the third Saturday of the month at 10am.  Contact the church to book and find out where the group is meeting.
URL:https://warradale.lutheran.org.au/event/womens-saturday-brunch-3/2031-03-15/
LOCATION:South Australia
CATEGORIES:Fellowship,Women
ATTACH;FMTTYPE=image/jpeg:https://warradale.lutheran.org.au/wp-content/uploads/2023/02/pexels-vincent-rivaud-2272037-e1675820511779.jpg
END:VEVENT
END:VCALENDAR