BEGIN:VCALENDAR
VERSION:2.0
PRODID:-//Warradale Faith Congregation, SA - ECPv6.15.16//NONSGML v1.0//EN
CALSCALE:GREGORIAN
METHOD:PUBLISH
X-ORIGINAL-URL:https://warradale.lutheran.org.au
X-WR-CALDESC:Events for Warradale Faith Congregation, SA
REFRESH-INTERVAL;VALUE=DURATION:PT1H
X-Robots-Tag:noindex
X-PUBLISHED-TTL:PT1H
BEGIN:VTIMEZONE
TZID:Australia/Adelaide
BEGIN:STANDARD
TZOFFSETFROM:+1030
TZOFFSETTO:+0930
TZNAME:ACST
DTSTART:20250405T163000
END:STANDARD
BEGIN:DAYLIGHT
TZOFFSETFROM:+0930
TZOFFSETTO:+1030
TZNAME:ACDT
DTSTART:20251004T163000
END:DAYLIGHT
BEGIN:STANDARD
TZOFFSETFROM:+1030
TZOFFSETTO:+0930
TZNAME:ACST
DTSTART:20260404T163000
END:STANDARD
BEGIN:DAYLIGHT
TZOFFSETFROM:+0930
TZOFFSETTO:+1030
TZNAME:ACDT
DTSTART:20261003T163000
END:DAYLIGHT
BEGIN:STANDARD
TZOFFSETFROM:+1030
TZOFFSETTO:+0930
TZNAME:ACST
DTSTART:20270403T163000
END:STANDARD
BEGIN:DAYLIGHT
TZOFFSETFROM:+0930
TZOFFSETTO:+1030
TZNAME:ACDT
DTSTART:20271002T163000
END:DAYLIGHT
END:VTIMEZONE
BEGIN:VEVENT
DTSTART;TZID=Australia/Adelaide:20260327T173000
DTEND;TZID=Australia/Adelaide:20260327T200000
DTSTAMP:20260423T101031
CREATED:20260224T013913Z
LAST-MODIFIED:20260224T013913Z
UID:10002144-1774632600-1774641600@warradale.lutheran.org.au
SUMMARY:Community Meal - March 2026
DESCRIPTION:You are invited to join us for good company and good food at our \nGourmet BBQ Community Meal \nBarbecue meats and veggies\, salads & desserts. \nFrom 5.30pm Friday 27th March in the church hall. \nAll ages welcome.  Come along and invite others. \nIt’s FREE and if you need transport please let us know.  For catering purposes please RSVP with number attending & dietary needs to the church office on 8377 1731 by Friday 20th March. \n  \n 
URL:https://warradale.lutheran.org.au/event/community-meal-march-2026/
LOCATION:Faith Lutheran Church Warradale\, 2 Ailsa Avenue\, Warradale\, South Australia\, 5046\, Australia
CATEGORIES:Fellowship
ATTACH;FMTTYPE=image/jpeg:https://warradale.lutheran.org.au/wp-content/uploads/2024/02/Community-meal.jpg
GEO:-35.0118265;138.537677
X-APPLE-STRUCTURED-LOCATION;VALUE=URI;X-ADDRESS=Faith Lutheran Church Warradale 2 Ailsa Avenue Warradale South Australia 5046 Australia;X-APPLE-RADIUS=500;X-TITLE=2 Ailsa Avenue:geo:138.537677,-35.0118265
END:VEVENT
END:VCALENDAR